BEGIN:VCALENDAR
VERSION:2.0
PRODID:-//eventon.com NONSGML v1.0//EN
CALSCALE:GREGORIAN
METHOD:PUBLISH
BEGIN:VEVENT
UID:69e7c0c85583e
DTSTAMP:20260421T182408Z
DTSTART:20260425T093000Z
DTEND:20260425T120000Z
LOCATION:
SUMMARY:Die "Hasen" machen Frühjahrsputz
DESCRIPTION:Grünanlagen pflegen und ggf. Aufräumen im Haus mit Lehrer:inn
 en und Eltern\nhttps://hasengrund-berlin.de/events/die-hasen-machen-fruehja
 hrsputz/
URL:https://hasengrund-berlin.de/events/die-hasen-machen-fruehjahrsputz/
END:VEVENT
END:VCALENDAR