BEGIN:VCALENDAR
VERSION:2.0
PRODID:-//eventon.com NONSGML v1.0//EN
CALSCALE:GREGORIAN
METHOD:PUBLISH
BEGIN:VEVENT
UID:69e78f19a27fc
DTSTAMP:20260421T145209Z
DTSTART:20260427T132000Z
DTEND:20260427T235000Z
LOCATION:
SUMMARY:Entwicklungsgespräche
DESCRIPTION:ab 13.20 Uhr\nhttps://hasengrund-berlin.de/events/entwicklungsg
 espraeche-5/
URL:https://hasengrund-berlin.de/events/entwicklungsgespraeche-5/
END:VEVENT
END:VCALENDAR