BEGIN:VCALENDAR
VERSION:2.0
PRODID:-//eventon.com NONSGML v1.0//EN
CALSCALE:GREGORIAN
METHOD:PUBLISH
BEGIN:VEVENT
UID:69e7c3a0b3474
DTSTAMP:20260421T183616Z
DTSTART:20260428T132000Z
DTEND:20260428T235000Z
LOCATION:
SUMMARY:Entwicklungsgespräche
DESCRIPTION:ab 13.20 Uhr\nhttps://hasengrund-berlin.de/events/entwicklungsg
 espraeche-6/
URL:https://hasengrund-berlin.de/events/entwicklungsgespraeche-6/
END:VEVENT
END:VCALENDAR