BEGIN:VCALENDAR
VERSION:2.0
PRODID:-//eventon.com NONSGML v1.0//EN
CALSCALE:GREGORIAN
METHOD:PUBLISH
BEGIN:VEVENT
UID:69e78f8e9de1b
DTSTAMP:20260421T145406Z
DTSTART:20260429
DTEND:20260430
LOCATION:
SUMMARY:Entwicklungsgespräche
DESCRIPTION:ganztägig\nhttps://hasengrund-berlin.de/events/entwicklungsges
 praeche-4/
URL:https://hasengrund-berlin.de/events/entwicklungsgespraeche-4/
END:VEVENT
END:VCALENDAR