BEGIN:VCALENDAR
VERSION:2.0
PRODID:-//eventon.com NONSGML v1.0//EN
CALSCALE:GREGORIAN
METHOD:PUBLISH
BEGIN:VEVENT
UID:69e7c45a7b729
DTSTAMP:20260421T183922Z
DTSTART:20260508
DTEND:20260509
LOCATION:
SUMMARY:Frei-Day 7 !
DESCRIPTION:Der Frei-Day ist ein Tag zum projektorientierten Lernen.\nhttps
 ://hasengrund-berlin.de/events/frei-day-7/
URL:https://hasengrund-berlin.de/events/frei-day-7/
END:VEVENT
END:VCALENDAR