BEGIN:VCALENDAR
VERSION:2.0
PRODID:-//eventon.com NONSGML v1.0//EN
CALSCALE:GREGORIAN
METHOD:PUBLISH
BEGIN:VEVENT
UID:69e7c13c6de07
DTSTAMP:20260421T182604Z
DTSTART:20260520T163000Z
DTEND:20260520T215000Z
LOCATION:
SUMMARY:4. GEV
DESCRIPTION:Der Raum wird noch bekannt gegeben.\nhttps://hasengrund-berlin.
 de/events/4-gev/
URL:https://hasengrund-berlin.de/events/4-gev/
END:VEVENT
END:VCALENDAR