BEGIN:VCALENDAR
VERSION:2.0
PRODID:-//eventon.com NONSGML v1.0//EN
CALSCALE:GREGORIAN
METHOD:PUBLISH
BEGIN:VEVENT
UID:69e78e7c89208
DTSTAMP:20260421T144932Z
DTSTART:20260529
DTEND:20260530
LOCATION:
SUMMARY:Studientag 2
DESCRIPTION:Das Schulkollegium bildet sich weiter.\nhttps://hasengrund-berl
 in.de/events/studientag-2/
URL:https://hasengrund-berlin.de/events/studientag-2/
END:VEVENT
END:VCALENDAR