BEGIN:VCALENDAR
VERSION:2.0
PRODID:-//eventon.com NONSGML v1.0//EN
CALSCALE:GREGORIAN
METHOD:PUBLISH
BEGIN:VEVENT
UID:69e7c24595909
DTSTAMP:20260421T183029Z
DTSTART:20260528
DTEND:20260529
LOCATION:
SUMMARY:Hasenolympiade
DESCRIPTION:Hasenolympiade\nhttps://hasengrund-berlin.de/events/hasenolympi
 ade/
URL:https://hasengrund-berlin.de/events/hasenolympiade/
END:VEVENT
END:VCALENDAR