BEGIN:VCALENDAR
VERSION:2.0
PRODID:-//eventon.com NONSGML v1.0//EN
CALSCALE:GREGORIAN
METHOD:PUBLISH
BEGIN:VEVENT
UID:69e7c333d1d1d
DTSTAMP:20260421T183427Z
DTSTART:20260609T103000Z
DTEND:20260609T215000Z
LOCATION:
SUMMARY:Entwicklungsgespräche
DESCRIPTION:Entwicklungsgespräche\nhttps://hasengrund-berlin.de/events/ent
 wicklungsgespraeche-7/
URL:https://hasengrund-berlin.de/events/entwicklungsgespraeche-7/
END:VEVENT
END:VCALENDAR