BEGIN:VCALENDAR
VERSION:2.0
PRODID:-//eventon.com NONSGML v1.0//EN
CALSCALE:GREGORIAN
METHOD:PUBLISH
BEGIN:VEVENT
UID:69e78dd95e9d4
DTSTAMP:20260421T144649Z
DTSTART:20260610T103000Z
DTEND:20260610T215000Z
LOCATION:
SUMMARY:Entwicklungsgespräche
DESCRIPTION:Entwicklungsgespräche\nhttps://hasengrund-berlin.de/events/ent
 wicklungsgespraeche-8/
URL:https://hasengrund-berlin.de/events/entwicklungsgespraeche-8/
END:VEVENT
END:VCALENDAR