BEGIN:VCALENDAR
VERSION:2.0
PRODID:-//eventon.com NONSGML v1.0//EN
CALSCALE:GREGORIAN
METHOD:PUBLISH
BEGIN:VEVENT
UID:69e7c0c855905
DTSTAMP:20260421T182408Z
DTSTART:20260611T103000Z
DTEND:20260611T215000Z
LOCATION:
SUMMARY:Entwicklungsgespräche
DESCRIPTION:Entwicklungsgespräche\nhttps://hasengrund-berlin.de/events/ent
 wicklungsgespraeche-9/
URL:https://hasengrund-berlin.de/events/entwicklungsgespraeche-9/
END:VEVENT
END:VCALENDAR