BEGIN:VCALENDAR
VERSION:2.0
PRODID:-//eventon.com NONSGML v1.0//EN
CALSCALE:GREGORIAN
METHOD:PUBLISH
BEGIN:VEVENT
UID:69e7c2fb42cff
DTSTAMP:20260421T183331Z
DTSTART:20260615
DTEND:20260616
LOCATION:
SUMMARY:Klassenfahrtwoche
DESCRIPTION:Klassenfahrtwoche\nhttps://hasengrund-berlin.de/events/klassenf
 ahrtwoche/
URL:https://hasengrund-berlin.de/events/klassenfahrtwoche/
END:VEVENT
END:VCALENDAR