BEGIN:VCALENDAR
VERSION:2.0
PRODID:-//eventon.com NONSGML v1.0//EN
CALSCALE:GREGORIAN
METHOD:PUBLISH
BEGIN:VEVENT
UID:69e78cab0a381
DTSTAMP:20260421T144147Z
DTSTART:20260429
DTEND:20260430
LOCATION:
SUMMARY:Entwicklungsgespräche
DESCRIPTION:Entwicklungsgespräche\nhttps://hasengrund-berlin.de/events/ent
 wicklungsgespraeche-4/
URL:https://hasengrund-berlin.de/events/entwicklungsgespraeche-4/
END:VEVENT
BEGIN:VEVENT
UID:69e78cab0a409
DTSTAMP:20260421T144147Z
DTSTART:20260428T132000Z
DTEND:20260428T235000Z
LOCATION:
SUMMARY:Entwicklungsgespräche
DESCRIPTION:Entwicklungsgespräche\nhttps://hasengrund-berlin.de/events/ent
 wicklungsgespraeche-6/
URL:https://hasengrund-berlin.de/events/entwicklungsgespraeche-6/
END:VEVENT
BEGIN:VEVENT
UID:69e78cab0a46f
DTSTAMP:20260421T144147Z
DTSTART:20260427T132000Z
DTEND:20260427T235000Z
LOCATION:
SUMMARY:Entwicklungsgespräche
DESCRIPTION:Entwicklungsgespräche\nhttps://hasengrund-berlin.de/events/ent
 wicklungsgespraeche-5/
URL:https://hasengrund-berlin.de/events/entwicklungsgespraeche-5/
END:VEVENT
BEGIN:VEVENT
UID:69e78cab0a4c8
DTSTAMP:20260421T144147Z
DTSTART:20260324T140000Z
DTEND:20260324T160000Z
LOCATION:
SUMMARY:Osterspecial
DESCRIPTION:Osterspecial\nhttps://hasengrund-berlin.de/events/osterspecial/
URL:https://hasengrund-berlin.de/events/osterspecial/
END:VEVENT
BEGIN:VEVENT
UID:69e78cab0a523
DTSTAMP:20260421T144147Z
DTSTART:20260925
DTEND:20260926
LOCATION:
SUMMARY:Sponsorenlauf
DESCRIPTION:Sponsorenlauf\nhttps://hasengrund-berlin.de/events/sponsorenlau
 f-2/
URL:https://hasengrund-berlin.de/events/sponsorenlauf-2/
END:VEVENT
BEGIN:VEVENT
UID:69e78cab0a587
DTSTAMP:20260421T144147Z
DTSTART:20260425T093000Z
DTEND:20260425T120000Z
LOCATION:
SUMMARY:Die „Hasen“ machen Frühjahrsputz
DESCRIPTION:Die &#8222;Hasen&#8220; machen Frühjahrsputz\nhttps://hasengru
 nd-berlin.de/events/die-hasen-machen-fruehjahrsputz/
URL:https://hasengrund-berlin.de/events/die-hasen-machen-fruehjahrsputz/
END:VEVENT
BEGIN:VEVENT
UID:69e78cab0a5e1
DTSTAMP:20260421T144147Z
DTSTART:20260304T180000Z
DTEND:20260304T190000Z
LOCATION:
SUMMARY:AG Respekt
DESCRIPTION:AG Respekt\nhttps://hasengrund-berlin.de/events/ag-respekt-2/
URL:https://hasengrund-berlin.de/events/ag-respekt-2/
END:VEVENT
BEGIN:VEVENT
UID:69e78cab0a63a
DTSTAMP:20260421T144147Z
DTSTART:20260126
DTEND:20260127
LOCATION:
SUMMARY:Entwicklungsgespräche
DESCRIPTION:Entwicklungsgespräche\nhttps://hasengrund-berlin.de/events/ent
 wicklungsgespraeche-12/
URL:https://hasengrund-berlin.de/events/entwicklungsgespraeche-12/
END:VEVENT
BEGIN:VEVENT
UID:69e78cab0a688
DTSTAMP:20260421T144147Z
DTSTART:20260128T113000Z
DTEND:20260128T225000Z
LOCATION:
SUMMARY:Entwicklungsgespräche
DESCRIPTION:Entwicklungsgespräche\nhttps://hasengrund-berlin.de/events/ent
 wicklungsgespraeche-11/
URL:https://hasengrund-berlin.de/events/entwicklungsgespraeche-11/
END:VEVENT
BEGIN:VEVENT
UID:69e78cab0a6d7
DTSTAMP:20260421T144147Z
DTSTART:20260127T113000Z
DTEND:20260127T225000Z
LOCATION:
SUMMARY:Entwicklungsgespräche
DESCRIPTION:Entwicklungsgespräche\nhttps://hasengrund-berlin.de/events/ent
 wicklungsgespraeche-10/
URL:https://hasengrund-berlin.de/events/entwicklungsgespraeche-10/
END:VEVENT
BEGIN:VEVENT
UID:69e78cab0a735
DTSTAMP:20260421T144147Z
DTSTART:20260713
DTEND:20260714
LOCATION:
SUMMARY:eFöB-Hortfahrt
DESCRIPTION:eFöB-Hortfahrt\nhttps://hasengrund-berlin.de/events/efoeb-hort
 fahrt/
URL:https://hasengrund-berlin.de/events/efoeb-hortfahrt/
END:VEVENT
BEGIN:VEVENT
UID:69e78cab0a786
DTSTAMP:20260421T144147Z
DTSTART:20260615
DTEND:20260616
LOCATION:
SUMMARY:Klassenfahrtwoche
DESCRIPTION:Klassenfahrtwoche\nhttps://hasengrund-berlin.de/events/klassenf
 ahrtwoche/
URL:https://hasengrund-berlin.de/events/klassenfahrtwoche/
END:VEVENT
BEGIN:VEVENT
UID:69e78cab0a803
DTSTAMP:20260421T144147Z
DTSTART:20260611T103000Z
DTEND:20260611T215000Z
LOCATION:
SUMMARY:Entwicklungsgespräche
DESCRIPTION:Entwicklungsgespräche\nhttps://hasengrund-berlin.de/events/ent
 wicklungsgespraeche-9/
URL:https://hasengrund-berlin.de/events/entwicklungsgespraeche-9/
END:VEVENT
BEGIN:VEVENT
UID:69e78cab0a85e
DTSTAMP:20260421T144147Z
DTSTART:20260610T103000Z
DTEND:20260610T215000Z
LOCATION:
SUMMARY:Entwicklungsgespräche
DESCRIPTION:Entwicklungsgespräche\nhttps://hasengrund-berlin.de/events/ent
 wicklungsgespraeche-8/
URL:https://hasengrund-berlin.de/events/entwicklungsgespraeche-8/
END:VEVENT
BEGIN:VEVENT
UID:69e78cab0a8b2
DTSTAMP:20260421T144147Z
DTSTART:20260609T103000Z
DTEND:20260609T215000Z
LOCATION:
SUMMARY:Entwicklungsgespräche
DESCRIPTION:Entwicklungsgespräche\nhttps://hasengrund-berlin.de/events/ent
 wicklungsgespraeche-7/
URL:https://hasengrund-berlin.de/events/entwicklungsgespraeche-7/
END:VEVENT
BEGIN:VEVENT
UID:69e78cab0a906
DTSTAMP:20260421T144147Z
DTSTART:20260528
DTEND:20260529
LOCATION:
SUMMARY:Hasenolympiade
DESCRIPTION:Hasenolympiade\nhttps://hasengrund-berlin.de/events/hasenolympi
 ade/
URL:https://hasengrund-berlin.de/events/hasenolympiade/
END:VEVENT
BEGIN:VEVENT
UID:69e78cab0a955
DTSTAMP:20260421T144147Z
DTSTART:20260529
DTEND:20260530
LOCATION:
SUMMARY:Studientag 2
DESCRIPTION:Studientag 2\nhttps://hasengrund-berlin.de/events/studientag-2/
URL:https://hasengrund-berlin.de/events/studientag-2/
END:VEVENT
BEGIN:VEVENT
UID:69e78cab0a9a4
DTSTAMP:20260421T144147Z
DTSTART:20260527
DTEND:20260528
LOCATION:
SUMMARY:Wandertag 2
DESCRIPTION:Wandertag 2\nhttps://hasengrund-berlin.de/events/wandertag-2/
URL:https://hasengrund-berlin.de/events/wandertag-2/
END:VEVENT
BEGIN:VEVENT
UID:69e78cab0a9ec
DTSTAMP:20260421T144147Z
DTSTART:20260520T163000Z
DTEND:20260520T215000Z
LOCATION:
SUMMARY:4. GEV
DESCRIPTION:4. GEV\nhttps://hasengrund-berlin.de/events/4-gev/
URL:https://hasengrund-berlin.de/events/4-gev/
END:VEVENT
BEGIN:VEVENT
UID:69e78cab0aa43
DTSTAMP:20260421T144147Z
DTSTART:20260508
DTEND:20260509
LOCATION:
SUMMARY:Frei-Day 7 !
DESCRIPTION:Frei-Day 7 !\nhttps://hasengrund-berlin.de/events/frei-day-7/
URL:https://hasengrund-berlin.de/events/frei-day-7/
END:VEVENT
BEGIN:VEVENT
UID:69e78cab0aa8f
DTSTAMP:20260421T144147Z
DTSTART:20260318
DTEND:20260319
LOCATION:
SUMMARY:Känguru der Mathematik
DESCRIPTION:Känguru der Mathematik\nhttps://hasengrund-berlin.de/events/ka
 enguru-der-mathematik/
URL:https://hasengrund-berlin.de/events/kaenguru-der-mathematik/
END:VEVENT
BEGIN:VEVENT
UID:69e78cab0aade
DTSTAMP:20260421T144147Z
DTSTART:20260327
DTEND:20260328
LOCATION:
SUMMARY:Frei-Day 6 !
DESCRIPTION:Frei-Day 6 !\nhttps://hasengrund-berlin.de/events/frei-day-6/
URL:https://hasengrund-berlin.de/events/frei-day-6/
END:VEVENT
BEGIN:VEVENT
UID:69e78cab0ab28
DTSTAMP:20260421T144147Z
DTSTART:20260217
DTEND:20260218
LOCATION:
SUMMARY:Fasching
DESCRIPTION:Fasching\nhttps://hasengrund-berlin.de/events/fasching/
URL:https://hasengrund-berlin.de/events/fasching/
END:VEVENT
BEGIN:VEVENT
UID:69e78cab0ab6c
DTSTAMP:20260421T144147Z
DTSTART:20260218T173000Z
DTEND:20260218T225000Z
LOCATION:
SUMMARY:3. GEV
DESCRIPTION:3. GEV\nhttps://hasengrund-berlin.de/events/3-gev/
URL:https://hasengrund-berlin.de/events/3-gev/
END:VEVENT
BEGIN:VEVENT
UID:69e78cab0abbe
DTSTAMP:20260421T144147Z
DTSTART:20260227
DTEND:20260228
LOCATION:
SUMMARY:Frei-Day 5 !
DESCRIPTION:Frei-Day 5 !\nhttps://hasengrund-berlin.de/events/frei-day-5/
URL:https://hasengrund-berlin.de/events/frei-day-5/
END:VEVENT
BEGIN:VEVENT
UID:69e78cab0ac07
DTSTAMP:20260421T144147Z
DTSTART:20260128
DTEND:20260129
LOCATION:
SUMMARY:Wandertag 1
DESCRIPTION:Wandertag 1\nhttps://hasengrund-berlin.de/events/wandertag-1/
URL:https://hasengrund-berlin.de/events/wandertag-1/
END:VEVENT
BEGIN:VEVENT
UID:69e78cab0ac53
DTSTAMP:20260421T144147Z
DTSTART:20260123
DTEND:20260124
LOCATION:
SUMMARY:Frei-Day 4 !
DESCRIPTION:Frei-Day 4 !\nhttps://hasengrund-berlin.de/events/frei-day-4-2/
URL:https://hasengrund-berlin.de/events/frei-day-4-2/
END:VEVENT
BEGIN:VEVENT
UID:69e78cab0ac9b
DTSTAMP:20260421T144147Z
DTSTART:20251120T113000Z
DTEND:20251120T225000Z
LOCATION:
SUMMARY:Entwicklungsgespräche
DESCRIPTION:Entwicklungsgespräche\nhttps://hasengrund-berlin.de/events/ent
 wicklungsgespraeche-3/
URL:https://hasengrund-berlin.de/events/entwicklungsgespraeche-3/
END:VEVENT
BEGIN:VEVENT
UID:69e78cab0ace7
DTSTAMP:20260421T144147Z
DTSTART:20251119T113000Z
DTEND:20251119T225000Z
LOCATION:
SUMMARY:Entwicklungsgespräche
DESCRIPTION:Entwicklungsgespräche\nhttps://hasengrund-berlin.de/events/ent
 wicklungsgespraeche-2/
URL:https://hasengrund-berlin.de/events/entwicklungsgespraeche-2/
END:VEVENT
BEGIN:VEVENT
UID:69e78cab0ad43
DTSTAMP:20260421T144147Z
DTSTART:20251218T170000Z
DTEND:20251218T195700Z
LOCATION:
SUMMARY:Privat: Lesenacht
DESCRIPTION:Privat: Lesenacht\nhttps://hasengrund-berlin.de/?post_type=ajde
 _events&p=259
URL:https://hasengrund-berlin.de/?post_type=ajde_events&p=259
END:VEVENT
BEGIN:VEVENT
UID:69e78cab0ae65
DTSTAMP:20260421T144147Z
DTSTART:20251212
DTEND:20251213
LOCATION:
SUMMARY:Frei-Day 3 !
DESCRIPTION:Frei-Day 3 !\nhttps://hasengrund-berlin.de/events/frei-day-4/
URL:https://hasengrund-berlin.de/events/frei-day-4/
END:VEVENT
BEGIN:VEVENT
UID:69e78cab0aebc
DTSTAMP:20260421T144147Z
DTSTART:20251129T090000Z
DTEND:20251129T130000Z
LOCATION:
SUMMARY:Trödelmarkt leider abgesagt!
DESCRIPTION:Trödelmarkt leider abgesagt!\nhttps://hasengrund-berlin.de/eve
 nts/troedelmarkt/
URL:https://hasengrund-berlin.de/events/troedelmarkt/
END:VEVENT
BEGIN:VEVENT
UID:69e78cab0af10
DTSTAMP:20260421T144147Z
DTSTART:20251126T173000Z
DTEND:20251126T225000Z
LOCATION:
SUMMARY:2. GEV
DESCRIPTION:2. GEV\nhttps://hasengrund-berlin.de/events/2-gev/
URL:https://hasengrund-berlin.de/events/2-gev/
END:VEVENT
BEGIN:VEVENT
UID:69e78cab0af60
DTSTAMP:20260421T144147Z
DTSTART:20251121
DTEND:20251122
LOCATION:
SUMMARY:Studientag 1
DESCRIPTION:Studientag 1\nhttps://hasengrund-berlin.de/events/studientag-1/
URL:https://hasengrund-berlin.de/events/studientag-1/
END:VEVENT
BEGIN:VEVENT
UID:69e78cab0afa8
DTSTAMP:20260421T144147Z
DTSTART:20251118T123000Z
DTEND:20251118T235000Z
LOCATION:
SUMMARY:Entwicklungsgespräche
DESCRIPTION:Entwicklungsgespräche\nhttps://hasengrund-berlin.de/events/ent
 wicklungsgespraeche/
URL:https://hasengrund-berlin.de/events/entwicklungsgespraeche/
END:VEVENT
BEGIN:VEVENT
UID:69e78cab0aff9
DTSTAMP:20260421T144147Z
DTSTART:20251114
DTEND:20251115
LOCATION:
SUMMARY:Frei-Day 2 !
DESCRIPTION:Frei-Day 2 !\nhttps://hasengrund-berlin.de/events/frei-day-3/
URL:https://hasengrund-berlin.de/events/frei-day-3/
END:VEVENT
BEGIN:VEVENT
UID:69e78cab0b041
DTSTAMP:20260421T144147Z
DTSTART:20251107T151500Z
DTEND:20251107T225000Z
LOCATION:
SUMMARY:Laternenumzug
DESCRIPTION:Laternenumzug\nhttps://hasengrund-berlin.de/events/laternenumzu
 g-und-disco/
URL:https://hasengrund-berlin.de/events/laternenumzug-und-disco/
END:VEVENT
BEGIN:VEVENT
UID:69e78cab0b08d
DTSTAMP:20260421T144147Z
DTSTART:20251008T163000Z
DTEND:20251008T215000Z
LOCATION:
SUMMARY:1. GEV
DESCRIPTION:1. GEV\nhttps://hasengrund-berlin.de/events/1-gev/
URL:https://hasengrund-berlin.de/events/1-gev/
END:VEVENT
BEGIN:VEVENT
UID:69e78cab0b1aa
DTSTAMP:20260421T144147Z
DTSTART:20251015T190000Z
DTEND:20251015T203000Z
LOCATION:
SUMMARY:AG-Respekt
DESCRIPTION:AG-Respekt\nhttps://hasengrund-berlin.de/events/ag-respekt/
URL:https://hasengrund-berlin.de/events/ag-respekt/
END:VEVENT
BEGIN:VEVENT
UID:69e78cab0b217
DTSTAMP:20260421T144147Z
DTSTART:20251017
DTEND:20251018
LOCATION:
SUMMARY:Frei-Day!
DESCRIPTION:Frei-Day!\nhttps://hasengrund-berlin.de/events/frei-day/
URL:https://hasengrund-berlin.de/events/frei-day/
END:VEVENT
BEGIN:VEVENT
UID:69e78cab0b264
DTSTAMP:20260421T144147Z
DTSTART:20251010T140000Z
DTEND:20251010T173000Z
LOCATION:
SUMMARY:Erntedankfest
DESCRIPTION:Erntedankfest\nhttps://hasengrund-berlin.de/events/erntedankfes
 t/
URL:https://hasengrund-berlin.de/events/erntedankfest/
END:VEVENT
BEGIN:VEVENT
UID:69e78cab0b2b4
DTSTAMP:20260421T144147Z
DTSTART:20250927T100000Z
DTEND:20250927T130000Z
LOCATION:
SUMMARY:Tag der offenen Tür
DESCRIPTION:Tag der offenen Tür\nhttps://hasengrund-berlin.de/events/tag-d
 er-offenen-tuer/
URL:https://hasengrund-berlin.de/events/tag-der-offenen-tuer/
END:VEVENT
BEGIN:VEVENT
UID:69e78cab0b300
DTSTAMP:20260421T144147Z
DTSTART:20250926T141500Z
DTEND:20250926T163000Z
LOCATION:
SUMMARY:Sponsorenlauf
DESCRIPTION:Sponsorenlauf\nhttps://hasengrund-berlin.de/events/sponsorenlau
 f/
URL:https://hasengrund-berlin.de/events/sponsorenlauf/
END:VEVENT
BEGIN:VEVENT
UID:69e78cab0b34b
DTSTAMP:20260421T144147Z
DTSTART:20250923T180000Z
DTEND:20250925T203000Z
LOCATION:
SUMMARY:1. Elternabend
DESCRIPTION:1. Elternabend\nhttps://hasengrund-berlin.de/events/1-elternabe
 nd/
URL:https://hasengrund-berlin.de/events/1-elternabend/
END:VEVENT
BEGIN:VEVENT
UID:69e78cab0b396
DTSTAMP:20260421T144147Z
DTSTART:20250908T103800Z
DTEND:20250912T103800Z
LOCATION:
SUMMARY:Methodenwoche
DESCRIPTION:Methodenwoche\nhttps://hasengrund-berlin.de/events/methodenwoch
 e/
URL:https://hasengrund-berlin.de/events/methodenwoche/
END:VEVENT
BEGIN:VEVENT
UID:69e78cab0b3df
DTSTAMP:20260421T144147Z
DTSTART:20250913T090000Z
DTEND:20250913T120000Z
LOCATION:
SUMMARY:Einschulung
DESCRIPTION:Einschulung\nhttps://hasengrund-berlin.de/events/einschulung/
URL:https://hasengrund-berlin.de/events/einschulung/
END:VEVENT
BEGIN:VEVENT
UID:69e78cab0b436
DTSTAMP:20260421T144147Z
DTSTART:20260703
DTEND:20260704
LOCATION:
SUMMARY:Hof- & Sommerfest / Verabschiedung der 6. Klässler
DESCRIPTION:Hof- &amp; Sommerfest / Verabschiedung der 6. Klässler\nhttps:
 //hasengrund-berlin.de/events/hoffest/
URL:https://hasengrund-berlin.de/events/hoffest/
END:VEVENT
END:VCALENDAR